BEGIN:VCALENDAR
PRODID:-//eluceo/ical//2.0/EN
VERSION:2.0
CALSCALE:GREGORIAN
BEGIN:VEVENT
UID:5176d7633161985af71a265b636df9df
DTSTAMP:20260426T013403Z
SUMMARY:Country Heat
DESCRIPTION:Shaw JCC of Akron\nJCC Calendar\nhttps://shawjcc.org/jcccalenda
 r/country-heat-oct072017\n\nFREE for J members! This class is a high energ
 y\, low impact\, country inspired fitness class! You won't feel like you a
 re working out because you are having so much fun!
DTSTART;TZID=America/New_York:20171202T093000
DTEND;TZID=America/New_York:20171202T101500
END:VEVENT
END:VCALENDAR
