BEGIN:VCALENDAR
PRODID:-//eluceo/ical//2.0/EN
VERSION:2.0
CALSCALE:GREGORIAN
BEGIN:VEVENT
UID:ef9ecd456c13b9baada185f8ceea410c
DTSTAMP:20260422T204710Z
SUMMARY:Crisis Communications Planning Focus Group
DESCRIPTION:Shaw JCC of Akron\nJCC Calendar\nhttps://shawjcc.org/jcccalenda
 r/crisis-communication-planning-focus-group\n\nYou’re invited to provide
  feedback on campus and community security\, crisis response and protocol
 s to assist Jewish Akron in developing a comprehensive crisis communicat
 ions plan. \n\nIn recent months\, JCBA convened community leaders to addr
 ess communication protocols\, and this group subsequently engaged The Impa
 ct Group\, a local public relations agency and recognized industry expert 
 in crisis communications strategy\, to develop a training and communicatio
 ns plan that will unite the mes...
DTSTART;TZID=America/New_York:20190708T130000
DTEND;TZID=America/New_York:20190708T140000
END:VEVENT
END:VCALENDAR
