BEGIN:VCALENDAR
PRODID:-//eluceo/ical//2.0/EN
VERSION:2.0
CALSCALE:GREGORIAN
BEGIN:VEVENT
UID:4be1308c97df82ddb55c137fb8947a2e
DTSTAMP:20260420T202043Z
SUMMARY:Crisis Communications Planning Focus Group
DESCRIPTION:Shaw JCC of Akron\nJCC Calendar\nhttps://shawjcc.org/jcccalenda
 r/crisis-communications-planning-focus-groupt1\n\nYou’re invited to prov
 ide feedback on campus and community security\, crisis response and proto
 cols to assist Jewish Akron in developing a comprehensive crisis communi
 cations plan. \n\nIn recent months\, JCBA convened community leaders to a
 ddress communication protocols\, and this group subsequently engaged The I
 mpact Group\, a local public relations agency and recognized industry expe
 rt in crisis communications strategy\, to develop a training and communica
 tions plan that will unite the mes...
DTSTART;TZID=America/New_York:20190709T130000
DTEND;TZID=America/New_York:20190709T140000
END:VEVENT
END:VCALENDAR
