BEGIN:VCALENDAR
PRODID:-//eluceo/ical//2.0/EN
VERSION:2.0
CALSCALE:GREGORIAN
BEGIN:VEVENT
UID:88f52964d4e8f751160b7d1b0bc07cd0
DTSTAMP:20260422T055305Z
SUMMARY:Crisis Communications Planning Focus Group
DESCRIPTION:Shaw JCC of Akron\nJCC Calendar\nhttps://shawjcc.org/jcccalenda
 r/crisis-communications-planning-focus-groupw1\n\nYou’re invited to prov
 ide feedback on campus and community security\, crisis response and proto
 cols to assist Jewish Akron in developing a comprehensive crisis communi
 cations plan. \n\nIn recent months\, JCBA convened community leaders to a
 ddress communication protocols\, and this group subsequently engaged The I
 mpact Group\, a local public relations agency and recognized industry expe
 rt in crisis communications strategy\, to develop a training and communica
 tions plan that will unite the mes...
DTSTART;TZID=America/New_York:20190717T180000
DTEND;TZID=America/New_York:20190717T190000
END:VEVENT
END:VCALENDAR
