BEGIN:VCALENDAR
PRODID:-//eluceo/ical//2.0/EN
VERSION:2.0
CALSCALE:GREGORIAN
BEGIN:VEVENT
UID:6ab4f95ffc0ea8339f610a4740787154
DTSTAMP:20260421T223318Z
SUMMARY:Cycle for Good
DESCRIPTION:Shaw JCC of Akron\nJCC Calendar\nhttps://shawjcc.org/jcccalenda
 r/cycle-for-good\n\nSign up sheet\n\nPledge Form
DTSTART;TZID=America/New_York:20191222T090000
DTEND;TZID=America/New_York:20191222T120000
END:VEVENT
END:VCALENDAR
