BEGIN:VCALENDAR
PRODID:-//eluceo/ical//2.0/EN
VERSION:2.0
CALSCALE:GREGORIAN
BEGIN:VEVENT
UID:faba3a4c05a1ce85db7696ca1c123aca
DTSTAMP:20260421T133102Z
SUMMARY:"Dance Fever"
DESCRIPTION:Shaw JCC of Akron\nJCC Calendar\nhttps://shawjcc.org/jcccalenda
 r/dance-fever-03112018\n\nGet ready to hit the dance floor! Dancing is a w
 hole-body workout that’s fun. It’s good for your heart\, it makes you 
 stronger\, and it will help with balance and coordination. Join our team o
 f awesome instructors\, Tricia Meyer\, Tammy Treen\, Autumn Fullmore & Br
 ittney Price\, as they guide you through various dance exercise formats! C
 lass will be held in the gymnasium.\n\nClass is FREE\, however\, RSVP is r
 equired. Register online at ShawJCC.org/Online-Registration\, call 330-867
 -7850 or stop ...
DTSTART;TZID=America/New_York:20180311T120000
DTEND;TZID=America/New_York:20180311T140000
END:VEVENT
END:VCALENDAR
