BEGIN:VCALENDAR
PRODID:-//eluceo/ical//2.0/EN
VERSION:2.0
CALSCALE:GREGORIAN
BEGIN:VEVENT
UID:2d676c635fbc540e475db6c8dfe4796c
DTSTAMP:20260420T221526Z
SUMMARY:Discovery Chess Academy with Coach Kala Bagley
DESCRIPTION:Shaw JCC of Akron\nJCC Calendar\nhttps://shawjcc.org/jcccalenda
 r/discovery-chess-303024\n\nDISCOVERY CHESS ACADEMY WITH COACH KALA BAGLEY
 \n\nBeginner/Intermediate (ages 4 ½+-12)\, 5:15-6 p.m.\n\nCost: $70 M/$85
  G per six-class session\n\nSession II: Tuesdays\, Mar. 12\, 19 & 26\, Apr
 . 9\, 16 & 23. 200CH2b\n\nThis class is designed to introduce children to 
 the wonderful game of chess. Chess encourages players to take a more intel
 lectual approach to life. Children who take up chess may get a head start 
 on developing a love for immersion and learning that will pay dividends in
  other ways....
DTSTART;TZID=America/New_York:20190312T171500
DTEND;TZID=America/New_York:20190312T180000
END:VEVENT
END:VCALENDAR
