BEGIN:VCALENDAR
PRODID:-//eluceo/ical//2.0/EN
VERSION:2.0
CALSCALE:GREGORIAN
BEGIN:VEVENT
UID:193ca12e495221ec859b543f9f92427b
DTSTAMP:20260421T183440Z
SUMMARY:Downsizing Will Upsize Your Life!
DESCRIPTION:Shaw JCC of Akron\nJCC Calendar\nhttps://shawjcc.org/jcccalenda
 r/downsizing-will-upsize-your-life-1538152711\n\nDownsizing can be an emot
 ional challenge for many\, but it can also be a time to unburden yourself 
 of unwanted and unnecessary "STUFF"! Don't know what to keep and what to p
 itch? Caring Transitions is going to give us some advice on the process. I
 f you're thinking about downsizing now\, or in the future\, we can help!\n
 Coffee and Dessert Buffet to follow the presentation. Please RSVP by Oct. 
 16 to jlefever@shawjcc.org Cost $3 M/$4 G
DTSTART;TZID=America/New_York:20181030T130000
DTEND;TZID=America/New_York:20181030T150000
END:VEVENT
END:VCALENDAR
