BEGIN:VCALENDAR
PRODID:-//eluceo/ical//2.0/EN
VERSION:2.0
CALSCALE:GREGORIAN
BEGIN:VEVENT
UID:4d108db55d1cb5c799441379d7cb61a8
DTSTAMP:20260426T013353Z
SUMMARY:E.J. Thomas Broadway Series: Beautiful
DESCRIPTION:Shaw JCC of Akron\nJCC Calendar\nhttps://shawjcc.org/jcccalenda
 r/ej-thomas-broadway-series-beautiful\n\nFeaturing a stunning array of bel
 oved songs written by Gerry Goffin/Carole King and Barry Mann/Cynthia Weil
 \, including “I Feel the Earth Move\,” “One Fine Day\,” “(You Ma
 ke Me Feel) Like a Natural Woman\,” “You’ve Got A Friend” and the 
 title song\, BEAUTIFUL has a book by and Tony Award-nominee and Academy Aw
 ard-nominated writer Douglas McGrath\, direction by Marc Bruni\, choreogra
 phy by Josh Prince\, and took home two 2014 Tony Awards and a 2015 Grammy 
 Award.\n\nCost: $26 M/$32 G....
DTSTART;TZID=America/New_York:20191118T183000
DTEND;TZID=America/New_York:20191118T213000
END:VEVENT
END:VCALENDAR
