BEGIN:VCALENDAR
PRODID:-//eluceo/ical//2.0/EN
VERSION:2.0
CALSCALE:GREGORIAN
BEGIN:VEVENT
UID:f7761935f7b3972937217700602c9403
DTSTAMP:20260420T115804Z
SUMMARY:E.J. Thomas Broadway Series
DESCRIPTION:Shaw JCC of Akron\nJCC Calendar\nhttps://shawjcc.org/jcccalenda
 r/ej-thomas-broadway-seriesfeb2020\n\nE.J. THOMAS THE COLOR PURPLE\n\n2016
  Tony Award Winner! With a soul-raising\, Grammy-winning score of jazz\, g
 ospel\, ragtime and blues\, THE COLOR PURPLE gives an exhilarating story t
 o the Pulitzer-prize winning story.\n\nJoin us in the JCC Lobby at 6 pm fo
 r a wine and cheese reception before busing to the Theater. M/$60 G/$90
DTSTART;TZID=America/New_York:20200211T180000
DTEND;TZID=America/New_York:20200211T200000
END:VEVENT
END:VCALENDAR
