BEGIN:VCALENDAR
PRODID:-//eluceo/ical//2.0/EN
VERSION:2.0
CALSCALE:GREGORIAN
BEGIN:VEVENT
UID:53a153e18d9e17899daf009582c1da65
DTSTAMP:20260421T014653Z
SUMMARY:El Niños Dance Fitness for Kids
DESCRIPTION:Shaw JCC of Akron\nJCC Calendar\nhttps://shawjcc.org/jcccalenda
 r/el-nios-dance-fitness-for-kids-sat\n\nNiños in Spanish means children! 
 Bring your kids to this new and exciting class involving dance moves to gi
 ve them a great workout\, improve their mobility\, balance and so much mor
 e. FREE for members.
DTSTART;TZID=America/New_York:20190105T103000
DTEND;TZID=America/New_York:20190105T113000
END:VEVENT
END:VCALENDAR
