BEGIN:VCALENDAR
PRODID:-//eluceo/ical//2.0/EN
VERSION:2.0
CALSCALE:GREGORIAN
BEGIN:VEVENT
UID:78a63a0508cedabb4254b108f5c42541
DTSTAMP:20260423T095645Z
SUMMARY:End of the Year Mandel ECE Picnic
DESCRIPTION:Shaw JCC of Akron\nJCC Calendar\nhttps://shawjcc.org/jcccalenda
 r/end-of-the-year-mandel-ece-picnic-1556653762\n\nFuntastic Finale for Man
 del ECE children and families picnic at Back Camp.
DTSTART;TZID=America/New_York:20190531T110000
DTEND;TZID=America/New_York:20190531T123000
END:VEVENT
END:VCALENDAR
