BEGIN:VCALENDAR
PRODID:-//eluceo/ical//2.0/EN
VERSION:2.0
CALSCALE:GREGORIAN
BEGIN:VEVENT
UID:ffa5beca9284033eca2dd2b2ef042ea7
DTSTAMP:20260424T233700Z
SUMMARY:Espanol para puques (Spanish for Little Ones for ages 3-5)
DESCRIPTION:Shaw JCC of Akron\nJCC Calendar\nhttps://shawjcc.org/jcccalenda
 r/espanol-para-puques-spanish-for-little-ones-for-ages-3-5-315648\n\nChild
 ren will join Senorita Mc Duffee for a weekly Spanish experience. Songs\,
  stories\, arts and crafts and more will be provided for children using ba
 sic Spanish words and phrases.\n\nCost: $55 M/$65 G\n\n401.655
DTSTART;TZID=America/New_York:20171005T161500
DTEND;TZID=America/New_York:20171005T164500
END:VEVENT
END:VCALENDAR
