BEGIN:VCALENDAR
PRODID:-//eluceo/ical//2.0/EN
VERSION:2.0
CALSCALE:GREGORIAN
BEGIN:VEVENT
UID:192db562ac076787111ca4467809e455
DTSTAMP:20260422T113026Z
SUMMARY:Everything You Ever Wanted to Know About Passover!
DESCRIPTION:Shaw JCC of Akron\nJCC Calendar\nhttps://shawjcc.org/jcccalenda
 r/everything-you-ever-wanted-to-know-about-passover\n\nEverything You Ever
  Wanted to Know About Passover!\n\n10 a.m.-noon in the Lobby\n\nDrop by ou
 r table in the lobby for a quick overview of Passover\, try some homemade 
 matzo ball soup\, and make your own haroset\, a sweet\, dark-colored paste
  or salad made of fruits and nuts and eaten at the Passover Seder.
DTSTART;TZID=America/New_York:20190408T100000
DTEND;TZID=America/New_York:20190408T120000
END:VEVENT
END:VCALENDAR
