BEGIN:VCALENDAR
PRODID:-//eluceo/ical//2.0/EN
VERSION:2.0
CALSCALE:GREGORIAN
BEGIN:VEVENT
UID:9f3009d6a6e4e9f330f221d48fc277ee
DTSTAMP:20260424T054706Z
SUMMARY:Expect Excellence: You are in My Home Now
DESCRIPTION:Shaw JCC of Akron\nJCC Calendar\nhttps://shawjcc.org/jcccalenda
 r/expect-excellence-you-are-in-my-home-now\n\nExpect Excellence: You are i
 n My Home Now\nWednesday\, March 15\, 10:30-11:30 a.m.\n\nHaving friends a
 nd family living in assisted living\, nursing homes\, rehabilitation cente
 rs or even receiving care at home from a home care company can sometimes b
 e difficult for us to watch. As friends and family\, we often watch our lo
 ved ones receive sub-par care in environments that seem unfriendly and not
  very “homey.” Partnering with Menorah Park – Home Health Services\,
  a representative will help cha...
DTSTART;TZID=America/New_York:20170315T103000
DTEND;TZID=America/New_York:20170315T113000
END:VEVENT
END:VCALENDAR
