BEGIN:VCALENDAR
PRODID:-//eluceo/ical//2.0/EN
VERSION:2.0
CALSCALE:GREGORIAN
BEGIN:VEVENT
UID:2969f3bc025b05fa809ea9a57a65ed41
DTSTAMP:20260420T101214Z
SUMMARY:Facilities open 8 a.m.-1 p.m.
DESCRIPTION:Shaw JCC of Akron\nJCC Calendar\nhttps://shawjcc.org/jcccalenda
 r/facilities-open-8-am-1-pm-christmas\n\nChristmas Day - Facilities open 8
  a.m.-1 p.m.
DTSTART;TZID=America/New_York:20161225T080000
DTEND;TZID=America/New_York:20161225T130000
END:VEVENT
END:VCALENDAR
