BEGIN:VCALENDAR
PRODID:-//eluceo/ical//2.0/EN
VERSION:2.0
CALSCALE:GREGORIAN
BEGIN:VEVENT
UID:0be0f756de0a57ad939f71c5bc597df7
DTSTAMP:20260420T234854Z
SUMMARY:Family FUN Day & Open House
DESCRIPTION:Shaw JCC of Akron\nJCC Calendar\nhttps://shawjcc.org/jcccalenda
 r/family-fun-day-open-house-2018-221306\n\nThe community is invited to Sha
 w JCC of Akron’s Family FUN Day & Open House on Sunday\, Jan. 21\, 1-4
  p.m. Kids of all ages will enjoy bounce houses\, face painting and balloo
 n twisting – and parents will love the big savings on Camp JCC\, member
 ship and more! This event is FREE and open to the community. Children unde
 r 13 must be accompanied by a responsible adult.\n\n \n\nDiscounts & Give
 aways: \n\n\nRegister for summer Camp JCC and receive a 15% discount pl
 us a FREE camp cinch sack...
DTSTART;TZID=America/New_York:20180121T130000
DTEND;TZID=America/New_York:20180121T160000
END:VEVENT
END:VCALENDAR
