BEGIN:VCALENDAR
PRODID:-//eluceo/ical//2.0/EN
VERSION:2.0
CALSCALE:GREGORIAN
BEGIN:VEVENT
UID:a1b868464349ef559a282a24398b316c
DTSTAMP:20260420T053529Z
SUMMARY:Friday Fun Time
DESCRIPTION:Shaw JCC of Akron\nJCC Calendar\nhttps://shawjcc.org/jcccalenda
 r/friday-fun-tim\n\nFridays Jan. 27-Feb. 24 1-1:45 p.m.\n\n401.026\n\nChil
 dren ages 3 to 5 will play a variety of fun games of tag\, relay races and
  an obstacle course –all related to a variety of sports\, which team can
  run the bases the fastest\, which child can throw a ball the farthest\, a
 nd which child can do the obstacle course while holding onto a football. C
 lass meets in the gym. Cost: $45 M/$60 G\n\nCall 330-867-7850 to register!
DTSTART;TZID=America/New_York:20170127T130000
DTEND;TZID=America/New_York:20170127T134500
END:VEVENT
END:VCALENDAR
