BEGIN:VCALENDAR
PRODID:-//eluceo/ical//2.0/EN
VERSION:2.0
CALSCALE:GREGORIAN
BEGIN:VEVENT
UID:e7add3811f129a090eca9bd6c1d2071a
DTSTAMP:20260419T134034Z
SUMMARY:Functional Movement Fundamentals
DESCRIPTION:Shaw JCC of Akron\nJCC Calendar\nhttps://shawjcc.org/jcccalenda
 r/functional-movement-fundamentals\n\nAre you getting older and seeing cha
 nges in your body\, but you don’t know how to stay healthy in movement? 
 Then\, Functional Movement Fundamentals is the place for you! In this shor
 t informational class\, you will learn about aging and the proper way to k
 eep moving through your daily activities.\n\nFREE for J Members!
DTSTART;TZID=America/New_York:20161207T113000
DTEND;TZID=America/New_York:20161207T120000
END:VEVENT
END:VCALENDAR
