BEGIN:VCALENDAR
PRODID:-//eluceo/ical//2.0/EN
VERSION:2.0
CALSCALE:GREGORIAN
BEGIN:VEVENT
UID:081dabb2068bc3f983580025636fbd6f
DTSTAMP:20260422T192140Z
SUMMARY:Get Happy Invigorate Yoga
DESCRIPTION:Shaw JCC of Akron\nJCC Calendar\nhttps://shawjcc.org/jcccalenda
 r/get-happy-invigorate-yoga-04012018\n\nFREE for J members! This class com
 bines a series of energizing poses that will boost your energy and get you
  ready to tackle the week with an abundance of good energy. The class is d
 esigned for all levels and can be modified to suit your current yoga needs
 .
DTSTART;TZID=America/New_York:20180401T080000
DTEND;TZID=America/New_York:20180401T093000
END:VEVENT
END:VCALENDAR
