BEGIN:VCALENDAR
PRODID:-//eluceo/ical//2.0/EN
VERSION:2.0
CALSCALE:GREGORIAN
BEGIN:VEVENT
UID:89d7aa9c7ece3f7af4bcdd9058727366
DTSTAMP:20260422T234321Z
SUMMARY:Get Happy Invigorate Yoga
DESCRIPTION:Shaw JCC of Akron\nJCC Calendar\nhttps://shawjcc.org/jcccalenda
 r/get-happy-invigorate-yoga-1502111855\n\nFREE for J members! This class c
 ombines a series of energizing poses that will boost your energy and get y
 ou ready to tackle the week with an abundance of good energy. The class is
  designed for all levels and can be modified to suit your current yoga nee
 ds.
DTSTART;TZID=America/New_York:20171203T080000
DTEND;TZID=America/New_York:20171203T090000
END:VEVENT
END:VCALENDAR
