BEGIN:VCALENDAR
PRODID:-//eluceo/ical//2.0/EN
VERSION:2.0
CALSCALE:GREGORIAN
BEGIN:VEVENT
UID:70673ac63134f65c41d2bfc86824d430
DTSTAMP:20260420T171415Z
SUMMARY:Gili & Uri Community Farewell Party
DESCRIPTION:Shaw JCC of Akron\nJCC Calendar\nhttps://shawjcc.org/jcccalenda
 r/gili-uri-community-farewell-party-275426\n\nJoin us July 9th for a commu
 nity farewell to our good friends and Shlichim Uri & Gili Hershkovitz. Des
 sert & drinks will be served.
DTSTART;TZID=America/New_York:20180709T170000
DTEND;TZID=America/New_York:20180709T183000
END:VEVENT
END:VCALENDAR
