BEGIN:VCALENDAR
PRODID:-//eluceo/ical//2.0/EN
VERSION:2.0
CALSCALE:GREGORIAN
BEGIN:VEVENT
UID:8284f887f02f220419eab7a2eaa2564e
DTSTAMP:20260420T173604Z
SUMMARY:Shaw JCC Golf Outing
DESCRIPTION:Shaw JCC of Akron\nJCC Calendar\nhttps://shawjcc.org/jcccalenda
 r/golf-outing-210658\n\n.Save the Date! Monday\, September 18 at the Silve
 r Lake Country Club
DTSTART;TZID=America/New_York:20170918T110000
DTEND;TZID=America/New_York:20170918T200000
END:VEVENT
END:VCALENDAR
