BEGIN:VCALENDAR
PRODID:-//eluceo/ical//2.0/EN
VERSION:2.0
CALSCALE:GREGORIAN
BEGIN:VEVENT
UID:fb7029639cc8974f808110f65e3d76bb
DTSTAMP:20260420T183532Z
SUMMARY:Good Night Yoga
DESCRIPTION:Shaw JCC of Akron\nJCC Calendar\nhttps://shawjcc.org/jcccalenda
 r/good-night-yoga-1502121274\n\nFREE for J members! This class combines a 
 series of simple poses for following the natural world as it comes to rest
  at the end of the day. The sequences of poses are designed to calm the mi
 nd\,relieve tension and assist with achieving a good night of sleep. Poses
  can be modified for all levels.
DTSTART;TZID=America/New_York:20171205T190000
DTEND;TZID=America/New_York:20171205T200000
END:VEVENT
END:VCALENDAR
