BEGIN:VCALENDAR
PRODID:-//eluceo/ical//2.0/EN
VERSION:2.0
CALSCALE:GREGORIAN
BEGIN:VEVENT
UID:8b5bfe78b9cc3a50b5b408adc53b848e
DTSTAMP:20260423T094224Z
SUMMARY:Gymnastics Class (ages 6-15)
DESCRIPTION:Shaw JCC of Akron\nJCC Calendar\nhttps://shawjcc.org/jcccalenda
 r/gymnastics-class-ages-6-15\n\nStudents will work to develop coordination
 \, balance\, fitness as well as self-confidence in a safe and fun environm
 ent. Includes balance beam\, bar and floor exercises. Instructor: Gymnast 
 Jackie.\n\nNo class on Nov. 3.\n\nCost: $65 M/$80 G ($5 discount for kids 
 enrolled in KidSpace)\n\n200.434
DTSTART;TZID=America/New_York:20171006T163000
DTEND;TZID=America/New_York:20171006T173000
END:VEVENT
END:VCALENDAR
