BEGIN:VCALENDAR
PRODID:-//eluceo/ical//2.0/EN
VERSION:2.0
CALSCALE:GREGORIAN
BEGIN:VEVENT
UID:95cff3140f28386015a368aaafb7715a
DTSTAMP:20260422T080603Z
SUMMARY:Gymnastics with Jackie Rossero
DESCRIPTION:Shaw JCC of Akron\nJCC Calendar\nhttps://shawjcc.org/jcccalenda
 r/gymnastics-with-jackie-rossero-09262018\n\nStudents will work to develop
  coordination\, balance\, fitness\, as well as self-confidence in a safe a
 nd fun environment. Includes balance beam\, bar and floor exercises. Learn
  from our own gymnastics instructor Jackie Rossero.\n\nAges 5-7\, 4:30-5:1
 5 p.m. (200.GYM05)\n\nAges 7-11\, 5:15-6:15 p.m. (200.GYM06)\n\nSESSION ON
 E: Wednesdays\, Sept. 26\, Oct. 3\, 10\, 17\, 24 & 31\n\nSESSION TWO: Wedn
 esdays\, Nov. 7\, 14\, 28\, Dec. 5\, 12 & 19
DTSTART;TZID=America/New_York:20180926T163000
DTEND;TZID=America/New_York:20180926T181500
END:VEVENT
END:VCALENDAR
