BEGIN:VCALENDAR
PRODID:-//eluceo/ical//2.0/EN
VERSION:2.0
CALSCALE:GREGORIAN
BEGIN:VEVENT
UID:ec357a40df5c5049640b5dd7f127d953
DTSTAMP:20260424T135722Z
SUMMARY:Gymnastics with Ms. Jackie
DESCRIPTION:Shaw JCC of Akron\nJCC Calendar\nhttps://shawjcc.org/jcccalenda
 r/gymnastics-with-ms-jackienovece\n\nIdeal for first-time preschoolers wan
 ting to learn more about gymnastics. Children will develop skills in coord
 ination\, flexibility\, fitness and self confidence. Includes balance beam
 \, bar\, and floor exercises.\n\nFridays\, Nov. 22 and Dec. 6\, 13\, 20 (4
 -week session)\,  3:30-4:15 p.m.\n\nPreschool (ages 3-5) \n\nCost: $35 M
 /$50 G\n\n401.GYMPRE1\n\n \n\n 
DTSTART;TZID=America/New_York:20191122T153000
DTEND;TZID=America/New_York:20191122T161500
END:VEVENT
END:VCALENDAR
