BEGIN:VCALENDAR
PRODID:-//eluceo/ical//2.0/EN
VERSION:2.0
CALSCALE:GREGORIAN
BEGIN:VEVENT
UID:2fee0f49af1769320f184c0585312ee1
DTSTAMP:20260421T050332Z
SUMMARY:Healios 360 Holistic Training with Dr. Peach Yahney
DESCRIPTION:Shaw JCC of Akron\nJCC Calendar\nhttps://shawjcc.org/jcccalenda
 r/healios-360-holistic-training-with-dr-peach-yahneyoctdec\n\nIt's time to
  create positive long-lasting change for your mind\, body and spirit. Enga
 ge in heart-centered cardio that combines kickboxing\, toning\, and yoga w
 ith powerful affirmations. It’s time to move beyond shaping your body an
 d focus on shaping your life as a whole! The workouts are designed to help
  improve mood\, flexibility\, balance\, strength\, and stamina and to incr
 ease resting metabolism. \n\n\nInstructor Dr. Peach Yahney utilizes an in
 tegrative approach to fitness and training. She ...
DTSTART;TZID=America/New_York:20191007T051000
DTEND;TZID=America/New_York:20191007T060000
END:VEVENT
END:VCALENDAR
