BEGIN:VCALENDAR
PRODID:-//eluceo/ical//2.0/EN
VERSION:2.0
CALSCALE:GREGORIAN
BEGIN:VEVENT
UID:8def01770cfa566bcbc5a442239151e4
DTSTAMP:20260426T013523Z
SUMMARY:HIIT Fusion
DESCRIPTION:Shaw JCC of Akron\nJCC Calendar\nhttps://shawjcc.org/jcccalenda
 r/hiit-fusion-07062018\n\nFREE for J members! Traditional Hit Workout (20
  seconds work\, 10 seconds rest) with separate cardio and weight iteration
 s. A total body workout that yields maximum calorie burn. (All Levels)\n\n
  
DTSTART;TZID=America/New_York:20180706T090000
DTEND;TZID=America/New_York:20180706T094500
END:VEVENT
END:VCALENDAR
