BEGIN:VCALENDAR
PRODID:-//eluceo/ical//2.0/EN
VERSION:2.0
CALSCALE:GREGORIAN
BEGIN:VEVENT
UID:d89621ef19a44764ac07e8c1f0273c52
DTSTAMP:20260420T011358Z
SUMMARY:Holistic Approach to Staying Happy in the Winter!
DESCRIPTION:Shaw JCC of Akron\nJCC Calendar\nhttps://shawjcc.org/jcccalenda
 r/holistic-approach\n\nGot the winter blues? Want to stay active but in th
 e comfort of your own home? Carol Kushkin (one of our amazing exercise cla
 ss teachers) will show us some very helpful daily motions (exercises) and 
 utilize Laugh Therapy to keep us safe and sane over the winter months. Ple
 ase RSVP to Rachel Williams at 330-835- 0027. Free and open to the public.
DTSTART;TZID=America/New_York:20180208T104500
DTEND;TZID=America/New_York:20180208T114500
END:VEVENT
END:VCALENDAR
