BEGIN:VCALENDAR
PRODID:-//eluceo/ical//2.0/EN
VERSION:2.0
CALSCALE:GREGORIAN
BEGIN:VEVENT
UID:7a7745ee2f3c200d28798d77b9921ccc
DTSTAMP:20260420T164037Z
SUMMARY:How to Identify & Avoid Scams
DESCRIPTION:Shaw JCC of Akron\nJCC Calendar\nhttps://shawjcc.org/jcccalenda
 r/how-to-identify-avoid-scams\n\nJoseph McCorvey\, a consumer affairs outr
 each specialist from Summit County\, will cover various scams that take ad
 vantage of consumers\, especially senior citizens. Identity theft and cred
 it reports will also be part of the discussion. Handouts will be given to 
 anyone attending.
DTSTART;TZID=America/New_York:20170726T130000
DTEND;TZID=America/New_York:20170726T140000
END:VEVENT
END:VCALENDAR
