BEGIN:VCALENDAR
PRODID:-//eluceo/ical//2.0/EN
VERSION:2.0
CALSCALE:GREGORIAN
BEGIN:VEVENT
UID:32f69233e38bd545eb89e09d1664e910
DTSTAMP:20260423T074244Z
SUMMARY:Ignite the Flame Intro Seminar & Workshop
DESCRIPTION:Shaw JCC of Akron\nJCC Calendar\nhttps://shawjcc.org/jcccalenda
 r/ignite-the-flame-intro-seminar-workshop\n\nFREE for Ignite participants\
 , this presentation on emotional fitness\, effective nutrition and effecti
 ve training will explain the breakdown of the six-week program and its ben
 efits. Seminar will be held in the Mercaz room.
DTSTART;TZID=America/New_York:20190429T180000
DTEND;TZID=America/New_York:20190429T190000
END:VEVENT
END:VCALENDAR
