BEGIN:VCALENDAR
PRODID:-//eluceo/ical//2.0/EN
VERSION:2.0
CALSCALE:GREGORIAN
BEGIN:VEVENT
UID:6575648f16b2f51e667d86a80cacacdd
DTSTAMP:20260423T022414Z
SUMMARY:Ignite Weight Loss Bootcamp
DESCRIPTION:Shaw JCC of Akron\nJCC Calendar\nhttps://shawjcc.org/jcccalenda
 r/ignite-weigh-336566\n\nIgnite Weight Loss Boot camp \n\nJan. 13-Feb. 21
  with a Jan. 7 Ignite Introduction Workshop at 6 p.m.\, this workshop is f
 ull of great info that can impact you.\n\n604.6.112 Tuesdays & Thursdays\,
  6-7 p.m.\, Jan. 14-Feb. 20\, in the VIBE room\n\n604.6.113 Mondays & Frid
 ays\, 7-8 a.m.\, Jan. 13 Feb. 21\, in the VIBE room\n\n(cost includes all 
 trainer-led sessions\, including the free intro workshop).\n\nCost: $180/ 
 M $240/G\n\nLed by Coach and Personal Trainer: Wendell Christian Jr. M.S.\
 , CSCS\n\nOnl...
DTSTART;TZID=America/New_York:20200114T180000
DTEND;TZID=America/New_York:20200114T190000
END:VEVENT
END:VCALENDAR
