BEGIN:VCALENDAR
PRODID:-//eluceo/ical//2.0/EN
VERSION:2.0
CALSCALE:GREGORIAN
BEGIN:VEVENT
UID:2f3e461f9cd5c79f0886fbcc183d1b07
DTSTAMP:20260420T133226Z
SUMMARY:Indoor Pool & Whirlpool Closed
DESCRIPTION:Shaw JCC of Akron\nJCC Calendar\nhttps://shawjcc.org/jcccalenda
 r/indoor-pool-closed-for-annual-cleaning-maintenance\n\nIndoor Pool & whir
 lpool closed for annual cleaning & maintenance 
DTSTART;TZID=America/New_York:20180827T000000
DTEND;TZID=America/New_York:20180911T235959
END:VEVENT
END:VCALENDAR
