BEGIN:VCALENDAR
PRODID:-//eluceo/ical//2.0/EN
VERSION:2.0
CALSCALE:GREGORIAN
BEGIN:VEVENT
UID:cb6fc8761a85a4bdc323b66204ebc65f
DTSTAMP:20260424T062145Z
SUMMARY:Shaliach Program: Teens Hannukkah Party
DESCRIPTION:Shaw JCC of Akron\nJCC Calendar\nhttps://shawjcc.org/jcccalenda
 r/israeli-hannukkah-1539717889-289855\n\nCome to celebrate Hannukkah with 
 Mor\, the Israeli Shaliach (emissary)! For 8th to 12th graders in Area Roo
 m 1 at the Shaw JCC. Complimentary Sufganiyot (doughnuts) and some drinks
 .\n\nPlease RSVP to Mor - Shlichim@jewishakron.org.
DTSTART;TZID=America/New_York:20181204T190000
DTEND;TZID=America/New_York:20181204T203000
END:VEVENT
END:VCALENDAR
