BEGIN:VCALENDAR
PRODID:-//eluceo/ical//2.0/EN
VERSION:2.0
CALSCALE:GREGORIAN
BEGIN:VEVENT
UID:3880f7d89957d3a711e389ed46e137b1
DTSTAMP:20260425T032859Z
SUMMARY:J Splash Movie Night
DESCRIPTION:Shaw JCC of Akron\nJCC Calendar\nhttps://shawjcc.org/jcccalenda
 r/j-splash-movie-night-13526416\n\nEnjoy great fun and the movie Robots at
  the indoor pool! Float around in the warm water and enjoy the movie with 
 your family. During movie\, we ask parents to be in the water with their 
 children. Please\, no kickboards or hard toys allowed. No rough housing a
 llowed during the movie. Small children’s floats and fun noodles are we
 lcome.\n* All pool rules apply to the above pool events.\n\nCost: $5 M\n\n
 603.991
DTSTART;TZID=America/New_York:20171019T184500
DTEND;TZID=America/New_York:20171019T203000
END:VEVENT
END:VCALENDAR
