BEGIN:VCALENDAR
PRODID:-//eluceo/ical//2.0/EN
VERSION:2.0
CALSCALE:GREGORIAN
BEGIN:VEVENT
UID:121b7158454e6c4acaf4ae72f179ce9f
DTSTAMP:20260422T082011Z
SUMMARY:Jazzercise
DESCRIPTION:Shaw JCC of Akron\nJCC Calendar\nhttps://shawjcc.org/jcccalenda
 r/jazzercise\n\n A 60-minute class blending jazz dance and exercise inclu
 des cardio and strengthening. (All Levels) Please contact Pam Coy at 330-6
 06-0764 for price information.
DTSTART;TZID=America/New_York:20170807T091500
DTEND;TZID=America/New_York:20170807T101500
END:VEVENT
END:VCALENDAR
