BEGIN:VCALENDAR
PRODID:-//eluceo/ical//2.0/EN
VERSION:2.0
CALSCALE:GREGORIAN
BEGIN:VEVENT
UID:7d578856c7d55d3a185ad76b2b423dd5
DTSTAMP:20260423T044316Z
SUMMARY:JCC Board Meeting
DESCRIPTION:Shaw JCC of Akron\nJCC Calendar\nhttps://shawjcc.org/jcccalenda
 r/jcc-board-meeting-1497466866-234654\n\n.
DTSTART;TZID=America/New_York:20170821T190000
DTEND;TZID=America/New_York:20170821T203000
END:VEVENT
END:VCALENDAR
