BEGIN:VCALENDAR
PRODID:-//eluceo/ical//2.0/EN
VERSION:2.0
CALSCALE:GREGORIAN
BEGIN:VEVENT
UID:d71345bc7c1011c01f03600130b51802
DTSTAMP:20260424T231535Z
SUMMARY:JCC Board Meeting
DESCRIPTION:Shaw JCC of Akron\nJCC Calendar\nhttps://shawjcc.org/jcccalenda
 r/jcc-board-meeting-1497467440-234657\n\n.
DTSTART;TZID=America/New_York:20180122T190000
DTEND;TZID=America/New_York:20180122T210000
END:VEVENT
END:VCALENDAR
