BEGIN:VCALENDAR
PRODID:-//eluceo/ical//2.0/EN
VERSION:2.0
CALSCALE:GREGORIAN
BEGIN:VEVENT
UID:fb78fb34c26518fe34f37630d9c93720
DTSTAMP:20260420T123113Z
SUMMARY:JCC Board Meeting
DESCRIPTION:Shaw JCC of Akron\nJCC Calendar\nhttps://shawjcc.org/jcccalenda
 r/jcc-board-meeting-1497467735-234659\n\n.
DTSTART;TZID=America/New_York:20180423T190000
DTEND;TZID=America/New_York:20180423T210000
END:VEVENT
END:VCALENDAR
