BEGIN:VCALENDAR
PRODID:-//eluceo/ical//2.0/EN
VERSION:2.0
CALSCALE:GREGORIAN
BEGIN:VEVENT
UID:799fc2d4fed2fe074b5a598393768c79
DTSTAMP:20260423T082054Z
SUMMARY:JCC Board Meeting
DESCRIPTION:Shaw JCC of Akron\nJCC Calendar\nhttps://shawjcc.org/jcccalenda
 r/jcc-board-meeting-1527711407-272698\n\n.
DTSTART;TZID=America/New_York:20190123T190000
DTEND;TZID=America/New_York:20190123T200000
END:VEVENT
END:VCALENDAR
