BEGIN:VCALENDAR
PRODID:-//eluceo/ical//2.0/EN
VERSION:2.0
CALSCALE:GREGORIAN
BEGIN:VEVENT
UID:257f99e133ec85f32b47308fa02e21e6
DTSTAMP:20260424T133702Z
SUMMARY:JCC Board Meeting
DESCRIPTION:Shaw JCC of Akron\nJCC Calendar\nhttps://shawjcc.org/jcccalenda
 r/jcc-board-meeting-1568901699-326027\n\n.
DTSTART;TZID=America/New_York:20191118T190000
DTEND;TZID=America/New_York:20191118T200000
END:VEVENT
END:VCALENDAR
