BEGIN:VCALENDAR
PRODID:-//eluceo/ical//2.0/EN
VERSION:2.0
CALSCALE:GREGORIAN
BEGIN:VEVENT
UID:64b1f19f5463529bc10f0388feccb35d
DTSTAMP:20260422T234153Z
SUMMARY:JCC Fitness Committee
DESCRIPTION:Shaw JCC of Akron\nJCC Calendar\nhttps://shawjcc.org/jcccalenda
 r/jcc-fitness-committee-1557428170-309968\n\n.
DTSTART;TZID=America/New_York:20190619T181500
DTEND;TZID=America/New_York:20190619T191500
END:VEVENT
END:VCALENDAR
