BEGIN:VCALENDAR
PRODID:-//eluceo/ical//2.0/EN
VERSION:2.0
CALSCALE:GREGORIAN
BEGIN:VEVENT
UID:7acbb6cab6f9fd81e1c4389d9e755fab
DTSTAMP:20260424T235316Z
SUMMARY:24th Annual Shaw JCC Golf Outing
DESCRIPTION:Shaw JCC of Akron\nJCC Calendar\nhttps://shawjcc.org/jcccalenda
 r/jcc-golf-outing-1506455855-247914\n\nGolf "Fore" a Good Cause on August 
 20\n\n\n\n\n\n\n\nGolf "Fore" a Good Cause! OnÂ Monday\, August 20\, golfe
 rs will hit the links at Silver Lake Country Club for theÂ Shaw JCCâ€™s 24
 th Annual Golf Outing.Â \n\nEvery year\, we look to the Akron community fo
 r players\, sponsors and prizes to helpÂ raise scholarship money forÂ fami
 lies\, children and seniorsÂ to enjoy quality childcare\, senior programmi
 ng\, our fitness center and programs\,Â indoor/outdoor pool and so much mo
 re at the Shaw JCC!Â...
DTSTART;TZID=America/New_York:20180820T103000
DTEND;TZID=America/New_York:20180820T190000
END:VEVENT
END:VCALENDAR
