BEGIN:VCALENDAR
PRODID:-//eluceo/ical//2.0/EN
VERSION:2.0
CALSCALE:GREGORIAN
BEGIN:VEVENT
UID:71637cb1727bea969b350d871c21d4f1
DTSTAMP:20260421T221145Z
SUMMARY:Shaw JCC Golf Outing
DESCRIPTION:Shaw JCC of Akron\nJCC Calendar\nhttps://shawjcc.org/jcccalenda
 r/jcc-golf-outing-1543424225-294577\n\nGolfers will hit the links at Silve
 r Lake Country Club for a good cause at Shaw JCC’s 26th annual Golf Outi
 ng. The tournament helps to raise scholarship money\, providing families\,
  children and seniors with the opportunity to enjoy Camp JCC\, before and 
 after school care\, the Lisa & Thom Mandel Early Childhood Center\, fitnes
 s center\, indoor/outdoor pool and more. As a mission-driven organization\
 , the Shaw JCC counts on fundraisers to continue providing top-notch progr
 amming and services that ...
DTSTART;TZID=America/New_York:20190909T110000
DTEND;TZID=America/New_York:20190909T110000
END:VEVENT
END:VCALENDAR
