BEGIN:VCALENDAR
PRODID:-//eluceo/ical//2.0/EN
VERSION:2.0
CALSCALE:GREGORIAN
BEGIN:VEVENT
UID:16231d75d77d5b0ce95889bc56b0e97b
DTSTAMP:20260425T005423Z
SUMMARY:JCC Golf Outing Committee
DESCRIPTION:Shaw JCC of Akron\nJCC Calendar\nhttps://shawjcc.org/jcccalenda
 r/jcc-golf-outing-committee-1552938019-305027\n\n.
DTSTART;TZID=America/New_York:20190408T173000
DTEND;TZID=America/New_York:20190408T183000
END:VEVENT
END:VCALENDAR
