BEGIN:VCALENDAR
PRODID:-//eluceo/ical//2.0/EN
VERSION:2.0
CALSCALE:GREGORIAN
BEGIN:VEVENT
UID:7d283a9c05e28f0d0ec57bb6c459b924
DTSTAMP:20260424T091618Z
SUMMARY:JCC Golf Outing Committee
DESCRIPTION:Shaw JCC of Akron\nJCC Calendar\nhttps://shawjcc.org/jcccalenda
 r/jcc-golf-outing-committee-1556226872-308773\n\n.
DTSTART;TZID=America/New_York:20190429T173000
DTEND;TZID=America/New_York:20190429T183000
END:VEVENT
END:VCALENDAR
