BEGIN:VCALENDAR
PRODID:-//eluceo/ical//2.0/EN
VERSION:2.0
CALSCALE:GREGORIAN
BEGIN:VEVENT
UID:2eb3ebdee1eefe29aef2beebd574ba56
DTSTAMP:20260422T171922Z
SUMMARY:JCC Hang Out for grades 7-12
DESCRIPTION:Shaw JCC of Akron\nJCC Calendar\nhttps://shawjcc.org/jcccalenda
 r/jcc-hang-out-for-grades-7-12-05072018\n\nFree including access to the gy
 m\, pool and "teen lounge" being set up in ECE Room 12. RSVP to jmbaker484
 @gmail.com.
DTSTART;TZID=America/New_York:20180507T174500
DTEND;TZID=America/New_York:20180507T203000
END:VEVENT
END:VCALENDAR
