BEGIN:VCALENDAR
PRODID:-//eluceo/ical//2.0/EN
VERSION:2.0
CALSCALE:GREGORIAN
BEGIN:VEVENT
UID:86d943cf22ae5c0470285760ac3ad6e5
DTSTAMP:20260420T171743Z
SUMMARY:JCC Marketing Committee Meeting
DESCRIPTION:Shaw JCC of Akron\nJCC Calendar\nhttps://shawjcc.org/jcccalenda
 r/jcc-marketing-committee-meeting-1530043958-275810\n\n.
DTSTART;TZID=America/New_York:20181114T163000
DTEND;TZID=America/New_York:20181114T173000
END:VEVENT
END:VCALENDAR
