BEGIN:VCALENDAR
PRODID:-//eluceo/ical//2.0/EN
VERSION:2.0
CALSCALE:GREGORIAN
BEGIN:VEVENT
UID:9a9aaeec1a44697e2c2b09121425e2e4
DTSTAMP:20260424T170756Z
SUMMARY:Shaw JCC Membership Committee
DESCRIPTION:Shaw JCC of Akron\nJCC Calendar\nhttps://shawjcc.org/jcccalenda
 r/jcc-membership-committee-1556636794-308980\n\n.
DTSTART;TZID=America/New_York:20190603T174500
DTEND;TZID=America/New_York:20190603T184500
END:VEVENT
END:VCALENDAR
